BEGIN:VCALENDAR
VERSION:2.0
PRODID:-//Plone.org//NONSGML plone.app.event//EN
X-WR-TIMEZONE:Europe/Berlin
BEGIN:VEVENT
SUMMARY:tanz ist - Festival - Vorspiel running sushi
DTSTART;TZID=Europe/Berlin:20060623T203000
DTSTAMP:20260421T104534Z
UID:88139fe897ea4f5f995526e8e50104c5@zmi.spielboden.at
CREATED:20120822T144706Z
LAST-MODIFIED:20210809T123836Z
URL:https://zmi.spielboden.at/Plone/veranstaltungen/2006/06_juni/2006-06-2
 3-20-30-tanz-ist-festival-vorspiel-running-sushi
END:VEVENT
BEGIN:VTIMEZONE
TZID:Europe/Berlin
X-LIC-LOCATION:Europe/Berlin
BEGIN:DAYLIGHT
DTSTART:20060326T030000
TZNAME:CEST
TZOFFSETFROM:+0100
TZOFFSETTO:+0200
END:DAYLIGHT
END:VTIMEZONE
END:VCALENDAR
