BEGIN:VCALENDAR
VERSION:2.0
PRODID:-//Plone.org//NONSGML plone.app.event//EN
X-WR-TIMEZONE:Europe/Berlin
BEGIN:VEVENT
SUMMARY:Biergartenkino – Kurzfilmabende
DTSTART;TZID=Europe/Berlin:20060617T220000
DTSTAMP:20260421T090122Z
UID:685e995749f14e37b677380e50d57196@zmi.spielboden.at
CREATED:20120822T144658Z
LAST-MODIFIED:20120910T114111Z
URL:https://zmi.spielboden.at/Plone/veranstaltungen/2006/06_juni/2006-06-1
 7-22-00-biergartenkino-2013-kurzfilmabende
END:VEVENT
BEGIN:VTIMEZONE
TZID:Europe/Berlin
X-LIC-LOCATION:Europe/Berlin
BEGIN:DAYLIGHT
DTSTART:20060326T030000
TZNAME:CEST
TZOFFSETFROM:+0100
TZOFFSETTO:+0200
END:DAYLIGHT
END:VTIMEZONE
END:VCALENDAR
