BEGIN:VCALENDAR
VERSION:2.0
PRODID:-//Plone.org//NONSGML plone.app.event//EN
X-WR-TIMEZONE:Europe/Berlin
BEGIN:VEVENT
SUMMARY:Filmfabrik – De-Lovely – Die Cole Porter Story
DTSTART;TZID=Europe/Berlin:20060616T203000
DTSTAMP:20260421T121021Z
UID:39fba2cd7e4f4f6baeac64729b83cc37@zmi.spielboden.at
CREATED:20120822T144659Z
LAST-MODIFIED:20120910T114111Z
URL:https://zmi.spielboden.at/Plone/veranstaltungen/2006/06_juni/2006-06-1
 6-20-30-filmfabrik-2013-de-lovely-2013-die-cole-porter-story
END:VEVENT
BEGIN:VTIMEZONE
TZID:Europe/Berlin
X-LIC-LOCATION:Europe/Berlin
BEGIN:DAYLIGHT
DTSTART:20060326T030000
TZNAME:CEST
TZOFFSETFROM:+0100
TZOFFSETTO:+0200
END:DAYLIGHT
END:VTIMEZONE
END:VCALENDAR
