BEGIN:VCALENDAR
VERSION:2.0
PRODID:-//Plone.org//NONSGML plone.app.event//EN
X-WR-TIMEZONE:Europe/Berlin
BEGIN:VEVENT
SUMMARY:Salsa Night
DTSTART;TZID=Europe/Berlin:20060615T210000
DTSTAMP:20260421T041640Z
UID:26a52b2954e6486bbe462dab9754516f@zmi.spielboden.at
CREATED:20120822T144652Z
LAST-MODIFIED:20210809T123835Z
URL:https://zmi.spielboden.at/Plone/veranstaltungen/2006/06_juni/2006-06-1
 5-21-00-salsa-night
END:VEVENT
BEGIN:VTIMEZONE
TZID:Europe/Berlin
X-LIC-LOCATION:Europe/Berlin
BEGIN:DAYLIGHT
DTSTART:20060326T030000
TZNAME:CEST
TZOFFSETFROM:+0100
TZOFFSETTO:+0200
END:DAYLIGHT
END:VTIMEZONE
END:VCALENDAR
