BEGIN:VCALENDAR
VERSION:2.0
PRODID:-//Plone.org//NONSGML plone.app.event//EN
X-WR-TIMEZONE:Europe/Berlin
BEGIN:VEVENT
SUMMARY:Filmfabrik – Katzenball
DTSTART;TZID=Europe/Berlin:20060614T203000
DTSTAMP:20260421T120842Z
UID:41a6d6243bd140f996408eccea6d5727@zmi.spielboden.at
CREATED:20120822T144659Z
LAST-MODIFIED:20120910T114111Z
URL:https://zmi.spielboden.at/Plone/veranstaltungen/2006/06_juni/2006-06-1
 4-20-30-filmfabrik-2013-katzenball
END:VEVENT
BEGIN:VTIMEZONE
TZID:Europe/Berlin
X-LIC-LOCATION:Europe/Berlin
BEGIN:DAYLIGHT
DTSTART:20060326T030000
TZNAME:CEST
TZOFFSETFROM:+0100
TZOFFSETTO:+0200
END:DAYLIGHT
END:VTIMEZONE
END:VCALENDAR
