BEGIN:VCALENDAR
VERSION:2.0
PRODID:-//Plone.org//NONSGML plone.app.event//EN
X-WR-TIMEZONE:Europe/Berlin
BEGIN:VEVENT
SUMMARY:Filmfabrik – Alles wegen Benjamin
DTSTART;TZID=Europe/Berlin:20060613T203000
DTSTAMP:20260421T085043Z
UID:33b7d425d4ab4d6bbadf91ba81c48803@zmi.spielboden.at
CREATED:20120822T144658Z
LAST-MODIFIED:20120910T114111Z
URL:https://zmi.spielboden.at/Plone/veranstaltungen/2006/06_juni/2006-06-1
 3-20-30-filmfabrik-2013-alles-wegen-benjamin
END:VEVENT
BEGIN:VTIMEZONE
TZID:Europe/Berlin
X-LIC-LOCATION:Europe/Berlin
BEGIN:DAYLIGHT
DTSTART:20060326T030000
TZNAME:CEST
TZOFFSETFROM:+0100
TZOFFSETTO:+0200
END:DAYLIGHT
END:VTIMEZONE
END:VCALENDAR
