BEGIN:VCALENDAR
VERSION:2.0
PRODID:-//Plone.org//NONSGML plone.app.event//EN
X-WR-TIMEZONE:Europe/Berlin
BEGIN:VEVENT
SUMMARY:Afrikanischer Tanz- & Trommelworkshop
DTSTART;TZID=Europe/Berlin:20060610T100000
DTSTAMP:20260421T162450Z
UID:d0fd6347c2544b87b9d972d63e5e5aa7@zmi.spielboden.at
CREATED:20120822T144700Z
LAST-MODIFIED:20120910T114111Z
URL:https://zmi.spielboden.at/Plone/veranstaltungen/2006/06_juni/2006-06-1
 0-10-00-afrikanischer-tanz-trommelworkshop
END:VEVENT
BEGIN:VTIMEZONE
TZID:Europe/Berlin
X-LIC-LOCATION:Europe/Berlin
BEGIN:DAYLIGHT
DTSTART:20060326T030000
TZNAME:CEST
TZOFFSETFROM:+0100
TZOFFSETTO:+0200
END:DAYLIGHT
END:VTIMEZONE
END:VCALENDAR
