BEGIN:VCALENDAR
VERSION:2.0
PRODID:-//Plone.org//NONSGML plone.app.event//EN
X-WR-TIMEZONE:Europe/Berlin
BEGIN:VEVENT
SUMMARY:Circus Kreisolino – Verzaubert\, verhext und verkehrt
DTSTART;TZID=Europe/Berlin:20060609T200000
DTSTAMP:20260421T104515Z
UID:b9739ebd7aca41988335ed1528e612f6@zmi.spielboden.at
CREATED:20120822T144701Z
LAST-MODIFIED:20120910T114111Z
URL:https://zmi.spielboden.at/Plone/veranstaltungen/2006/06_juni/2006-06-0
 9-20-00-circus-kreisolino-2013-verzaubert-verhext-und-verkehrt
END:VEVENT
BEGIN:VTIMEZONE
TZID:Europe/Berlin
X-LIC-LOCATION:Europe/Berlin
BEGIN:DAYLIGHT
DTSTART:20060326T030000
TZNAME:CEST
TZOFFSETFROM:+0100
TZOFFSETTO:+0200
END:DAYLIGHT
END:VTIMEZONE
END:VCALENDAR
