BEGIN:VCALENDAR
VERSION:2.0
PRODID:-//Plone.org//NONSGML plone.app.event//EN
X-WR-TIMEZONE:Europe/Berlin
BEGIN:VEVENT
SUMMARY:MIKROKINO #13 – Memoria del saqueo
DTSTART;TZID=Europe/Berlin:20060606T203000
DTSTAMP:20260421T085059Z
UID:f1397975f7ad4f2bab29efd959d35c0d@zmi.spielboden.at
CREATED:20120822T144654Z
LAST-MODIFIED:20120910T114110Z
URL:https://zmi.spielboden.at/Plone/veranstaltungen/2006/06_juni/2006-06-0
 6-20-30-mikrokino-13-2013-memoria-del-saqueo
END:VEVENT
BEGIN:VTIMEZONE
TZID:Europe/Berlin
X-LIC-LOCATION:Europe/Berlin
BEGIN:DAYLIGHT
DTSTART:20060326T030000
TZNAME:CEST
TZOFFSETFROM:+0100
TZOFFSETTO:+0200
END:DAYLIGHT
END:VTIMEZONE
END:VCALENDAR
