BEGIN:VCALENDAR
VERSION:2.0
PRODID:-//Plone.org//NONSGML plone.app.event//EN
X-WR-TIMEZONE:Europe/Berlin
BEGIN:VEVENT
SUMMARY:Northern Soul Party mit DJ Ernesto
DTSTART;TZID=Europe/Berlin:20060604T210000
DTSTAMP:20260421T042208Z
UID:61898660b3f44dee950149c6173ad6b9@zmi.spielboden.at
CREATED:20120822T144654Z
LAST-MODIFIED:20120910T114110Z
URL:https://zmi.spielboden.at/Plone/veranstaltungen/2006/06_juni/2006-06-0
 4-21-00-northern-soul-party-mit-dj-ernesto
END:VEVENT
BEGIN:VTIMEZONE
TZID:Europe/Berlin
X-LIC-LOCATION:Europe/Berlin
BEGIN:DAYLIGHT
DTSTART:20060326T030000
TZNAME:CEST
TZOFFSETFROM:+0100
TZOFFSETTO:+0200
END:DAYLIGHT
END:VTIMEZONE
END:VCALENDAR
