BEGIN:VCALENDAR
VERSION:2.0
PRODID:-//Plone.org//NONSGML plone.app.event//EN
X-WR-TIMEZONE:Europe/Berlin
BEGIN:VEVENT
SUMMARY:Docuzone – Schattenland & Pommerland
DTSTART;TZID=Europe/Berlin:20060531T203000
DTSTAMP:20260421T055202Z
UID:6b50dd7bf9ad4b76956baab64adc0d01@zmi.spielboden.at
CREATED:20120822T144640Z
LAST-MODIFIED:20120910T114109Z
URL:https://zmi.spielboden.at/Plone/veranstaltungen/2006/05_mai/2006-05-31
 -20-30-docuzone-2013-schattenland-pommerland
END:VEVENT
BEGIN:VTIMEZONE
TZID:Europe/Berlin
X-LIC-LOCATION:Europe/Berlin
BEGIN:DAYLIGHT
DTSTART:20060326T030000
TZNAME:CEST
TZOFFSETFROM:+0100
TZOFFSETTO:+0200
END:DAYLIGHT
END:VTIMEZONE
END:VCALENDAR
