BEGIN:VCALENDAR
VERSION:2.0
PRODID:-//Plone.org//NONSGML plone.app.event//EN
X-WR-TIMEZONE:Europe/Berlin
BEGIN:VEVENT
SUMMARY:Peter Apfelbaum’s New York Hieroglyphics
DTSTART;TZID=Europe/Berlin:20060530T203000
DTSTAMP:20260421T053252Z
UID:b120435d685a46888555a585027187ae@zmi.spielboden.at
CREATED:20120822T144634Z
LAST-MODIFIED:20210809T123831Z
URL:https://zmi.spielboden.at/Plone/veranstaltungen/2006/05_mai/2006-05-30
 -20-30-peter-apfelbaum2019s-new-york-hieroglyphics
END:VEVENT
BEGIN:VTIMEZONE
TZID:Europe/Berlin
X-LIC-LOCATION:Europe/Berlin
BEGIN:DAYLIGHT
DTSTART:20060326T030000
TZNAME:CEST
TZOFFSETFROM:+0100
TZOFFSETTO:+0200
END:DAYLIGHT
END:VTIMEZONE
END:VCALENDAR
