BEGIN:VCALENDAR
VERSION:2.0
PRODID:-//Plone.org//NONSGML plone.app.event//EN
X-WR-TIMEZONE:Europe/Berlin
BEGIN:VEVENT
SUMMARY:Depeche Mode and More Party
DTSTART;TZID=Europe/Berlin:20060527T210000
DTSTAMP:20260421T041921Z
UID:5900801c2c8344d292670d81a850c104@zmi.spielboden.at
CREATED:20120822T144642Z
LAST-MODIFIED:20120910T114110Z
URL:https://zmi.spielboden.at/Plone/veranstaltungen/2006/05_mai/2006-05-27
 -21-00-depeche-mode-and-more-party
END:VEVENT
BEGIN:VTIMEZONE
TZID:Europe/Berlin
X-LIC-LOCATION:Europe/Berlin
BEGIN:DAYLIGHT
DTSTART:20060326T030000
TZNAME:CEST
TZOFFSETFROM:+0100
TZOFFSETTO:+0200
END:DAYLIGHT
END:VTIMEZONE
END:VCALENDAR
