BEGIN:VCALENDAR
VERSION:2.0
PRODID:-//Plone.org//NONSGML plone.app.event//EN
X-WR-TIMEZONE:Europe/Berlin
BEGIN:VEVENT
SUMMARY:Poetry Slam – Kampf der Dichter
DTSTART;TZID=Europe/Berlin:20060526T200000
DTSTAMP:20260421T042045Z
UID:4b730cc135ae476d9e74db2851d8361c@zmi.spielboden.at
CREATED:20120822T144643Z
LAST-MODIFIED:20210809T123833Z
URL:https://zmi.spielboden.at/Plone/veranstaltungen/2006/05_mai/2006-05-26
 -20-00-poetry-slam-2013-kampf-der-dichter
END:VEVENT
BEGIN:VTIMEZONE
TZID:Europe/Berlin
X-LIC-LOCATION:Europe/Berlin
BEGIN:DAYLIGHT
DTSTART:20060326T030000
TZNAME:CEST
TZOFFSETFROM:+0100
TZOFFSETTO:+0200
END:DAYLIGHT
END:VTIMEZONE
END:VCALENDAR
