BEGIN:VCALENDAR
VERSION:2.0
PRODID:-//Plone.org//NONSGML plone.app.event//EN
X-WR-TIMEZONE:Europe/Berlin
BEGIN:VEVENT
SUMMARY:VOLLGAS - Die Pappköpfe
DTSTART;TZID=Europe/Berlin:20060524T203000
DTSTAMP:20260421T042116Z
UID:7ba3319c1434464391cff6332d183813@zmi.spielboden.at
CREATED:20120822T150003Z
LAST-MODIFIED:20210809T124155Z
URL:https://zmi.spielboden.at/Plone/veranstaltungen/2006/05_mai/2006-05-24
 -20-30-vollgas-die-pappkopfe
END:VEVENT
BEGIN:VTIMEZONE
TZID:Europe/Berlin
X-LIC-LOCATION:Europe/Berlin
BEGIN:DAYLIGHT
DTSTART:20060326T030000
TZNAME:CEST
TZOFFSETFROM:+0100
TZOFFSETTO:+0200
END:DAYLIGHT
END:VTIMEZONE
END:VCALENDAR
