BEGIN:VCALENDAR
VERSION:2.0
PRODID:-//Plone.org//NONSGML plone.app.event//EN
X-WR-TIMEZONE:Europe/Berlin
BEGIN:VEVENT
SUMMARY:The Beautiful Kantine Band
DTSTART;TZID=Europe/Berlin:20060520T210000
DTSTAMP:20260421T055118Z
UID:be2cd5f0f8ef40138ac1a8e09a311b43@zmi.spielboden.at
CREATED:20120822T144641Z
LAST-MODIFIED:20210809T123832Z
URL:https://zmi.spielboden.at/Plone/veranstaltungen/2006/05_mai/2006-05-20
 -21-00-the-beautiful-kantine-band
END:VEVENT
BEGIN:VTIMEZONE
TZID:Europe/Berlin
X-LIC-LOCATION:Europe/Berlin
BEGIN:DAYLIGHT
DTSTART:20060326T030000
TZNAME:CEST
TZOFFSETFROM:+0100
TZOFFSETTO:+0200
END:DAYLIGHT
END:VTIMEZONE
END:VCALENDAR
