BEGIN:VCALENDAR
VERSION:2.0
PRODID:-//Plone.org//NONSGML plone.app.event//EN
X-WR-TIMEZONE:Europe/Berlin
BEGIN:VEVENT
SUMMARY:Kurzfilmfestival - Vienna Independent Shorts 2006
DTSTART;TZID=Europe/Berlin:20060520T200000
DTSTAMP:20260421T025707Z
UID:ece62709370c48049388115890983b5c@zmi.spielboden.at
CREATED:20120822T144641Z
LAST-MODIFIED:20120910T114109Z
URL:https://zmi.spielboden.at/Plone/veranstaltungen/2006/05_mai/2006-05-20
 -20-00-kurzfilmfestival-vienna-independent-shorts-2006
END:VEVENT
BEGIN:VTIMEZONE
TZID:Europe/Berlin
X-LIC-LOCATION:Europe/Berlin
BEGIN:DAYLIGHT
DTSTART:20060326T030000
TZNAME:CEST
TZOFFSETFROM:+0100
TZOFFSETTO:+0200
END:DAYLIGHT
END:VTIMEZONE
END:VCALENDAR
