BEGIN:VCALENDAR
VERSION:2.0
PRODID:-//Plone.org//NONSGML plone.app.event//EN
X-WR-TIMEZONE:Europe/Berlin
BEGIN:VEVENT
SUMMARY:Spielboden Kasperletheater
DTSTART;TZID=Europe/Berlin:20060520T150000
DTSTAMP:20260421T042214Z
UID:fc79c015f78548c3b0df5a8ad06e837d@zmi.spielboden.at
CREATED:20120822T144632Z
DESCRIPTION:Puppentheater ab 4 Jahren.
LAST-MODIFIED:20210809T123830Z
URL:https://zmi.spielboden.at/Plone/veranstaltungen/2006/05_mai/2006-05-20
 -15-00-spielboden-kasperletheater
END:VEVENT
BEGIN:VTIMEZONE
TZID:Europe/Berlin
X-LIC-LOCATION:Europe/Berlin
BEGIN:DAYLIGHT
DTSTART:20060326T030000
TZNAME:CEST
TZOFFSETFROM:+0100
TZOFFSETTO:+0200
END:DAYLIGHT
END:VTIMEZONE
END:VCALENDAR
