BEGIN:VCALENDAR
VERSION:2.0
PRODID:-//Plone.org//NONSGML plone.app.event//EN
X-WR-TIMEZONE:Europe/Berlin
BEGIN:VEVENT
SUMMARY:Salsa Night
DTSTART;TZID=Europe/Berlin:20060511T210000
DTSTAMP:20260421T025259Z
UID:891ba5e503a344508fd9d1867eacc75f@zmi.spielboden.at
CREATED:20120822T144636Z
LAST-MODIFIED:20210809T123831Z
URL:https://zmi.spielboden.at/Plone/veranstaltungen/2006/05_mai/2006-05-11
 -21-00-salsa-night
END:VEVENT
BEGIN:VTIMEZONE
TZID:Europe/Berlin
X-LIC-LOCATION:Europe/Berlin
BEGIN:DAYLIGHT
DTSTART:20060326T030000
TZNAME:CEST
TZOFFSETFROM:+0100
TZOFFSETTO:+0200
END:DAYLIGHT
END:VTIMEZONE
END:VCALENDAR
