BEGIN:VCALENDAR
VERSION:2.0
PRODID:-//Plone.org//NONSGML plone.app.event//EN
X-WR-TIMEZONE:Europe/Berlin
BEGIN:VEVENT
SUMMARY:Jeunesse - Hotel Palindrone the Funky Return of Tudlsack
DTSTART;TZID=Europe/Berlin:20060510T203000
DTSTAMP:20260421T014040Z
UID:a2fc5534d6064f1fadc51041fea658c4@zmi.spielboden.at
CREATED:20120822T144638Z
LAST-MODIFIED:20210809T123832Z
URL:https://zmi.spielboden.at/Plone/veranstaltungen/2006/05_mai/2006-05-10
 -20-30-jeunesse-hotel-palindrone-the-funky-return-of-tudlsack
END:VEVENT
BEGIN:VTIMEZONE
TZID:Europe/Berlin
X-LIC-LOCATION:Europe/Berlin
BEGIN:DAYLIGHT
DTSTART:20060326T030000
TZNAME:CEST
TZOFFSETFROM:+0100
TZOFFSETTO:+0200
END:DAYLIGHT
END:VTIMEZONE
END:VCALENDAR
