BEGIN:VCALENDAR
VERSION:2.0
PRODID:-//Plone.org//NONSGML plone.app.event//EN
X-WR-TIMEZONE:Europe/Berlin
BEGIN:VEVENT
SUMMARY:World Saxophone Quartet «Experience»
DTSTART;TZID=Europe/Berlin:20060509T203000
DTSTAMP:20260421T025225Z
UID:cbaf3e1f7e354c64bb84ad98efca82e8@zmi.spielboden.at
CREATED:20120822T144633Z
DESCRIPTION:Hommage à Jimi Hendrix
LAST-MODIFIED:20210809T123831Z
URL:https://zmi.spielboden.at/Plone/veranstaltungen/2006/05_mai/2006-05-09
 -20-30-world-saxophone-quartet-abexperiencebb
END:VEVENT
BEGIN:VTIMEZONE
TZID:Europe/Berlin
X-LIC-LOCATION:Europe/Berlin
BEGIN:DAYLIGHT
DTSTART:20060326T030000
TZNAME:CEST
TZOFFSETFROM:+0100
TZOFFSETTO:+0200
END:DAYLIGHT
END:VTIMEZONE
END:VCALENDAR
