BEGIN:VCALENDAR
VERSION:2.0
PRODID:-//Plone.org//NONSGML plone.app.event//EN
X-WR-TIMEZONE:Europe/Berlin
BEGIN:VEVENT
SUMMARY:Jahreshauptversammlung Verein Spielboden
DTSTART;TZID=Europe/Berlin:20060508T190000
DTSTAMP:20260421T013730Z
UID:16a9130ef0184b1c9f028b3ee48fd830@zmi.spielboden.at
CREATED:20120822T144638Z
LAST-MODIFIED:20120910T114109Z
URL:https://zmi.spielboden.at/Plone/veranstaltungen/2006/05_mai/2006-05-08
 -19-00-jahreshauptversammlung-verein-spielboden
END:VEVENT
BEGIN:VTIMEZONE
TZID:Europe/Berlin
X-LIC-LOCATION:Europe/Berlin
BEGIN:DAYLIGHT
DTSTART:20060326T030000
TZNAME:CEST
TZOFFSETFROM:+0100
TZOFFSETTO:+0200
END:DAYLIGHT
END:VTIMEZONE
END:VCALENDAR
