BEGIN:VCALENDAR
VERSION:2.0
PRODID:-//Plone.org//NONSGML plone.app.event//EN
X-WR-TIMEZONE:Europe/Berlin
BEGIN:VEVENT
SUMMARY:Judgement Day 9
DTSTART;TZID=Europe/Berlin:20060505T200000
DTSTAMP:20260421T055018Z
UID:8e7b1d6656814778bb2462916fcc236d@zmi.spielboden.at
CREATED:20120822T144635Z
LAST-MODIFIED:20210809T123831Z
URL:https://zmi.spielboden.at/Plone/veranstaltungen/2006/05_mai/2006-05-05
 -20-00-judgement-day-9
END:VEVENT
BEGIN:VTIMEZONE
TZID:Europe/Berlin
X-LIC-LOCATION:Europe/Berlin
BEGIN:DAYLIGHT
DTSTART:20060326T030000
TZNAME:CEST
TZOFFSETFROM:+0100
TZOFFSETTO:+0200
END:DAYLIGHT
END:VTIMEZONE
END:VCALENDAR
