BEGIN:VCALENDAR
VERSION:2.0
PRODID:-//Plone.org//NONSGML plone.app.event//EN
X-WR-TIMEZONE:Europe/Berlin
BEGIN:VEVENT
SUMMARY:Docuzone - KZ
DTSTART;TZID=Europe/Berlin:20060503T203000
DTSTAMP:20260421T041829Z
UID:283c1ee049a14cecade08587626fd8e4@zmi.spielboden.at
CREATED:20120822T144645Z
LAST-MODIFIED:20120910T114110Z
URL:https://zmi.spielboden.at/Plone/veranstaltungen/2006/05_mai/2006-05-03
 -20-30-docuzone-kz
END:VEVENT
BEGIN:VTIMEZONE
TZID:Europe/Berlin
X-LIC-LOCATION:Europe/Berlin
BEGIN:DAYLIGHT
DTSTART:20060326T030000
TZNAME:CEST
TZOFFSETFROM:+0100
TZOFFSETTO:+0200
END:DAYLIGHT
END:VTIMEZONE
END:VCALENDAR
