BEGIN:VCALENDAR
VERSION:2.0
PRODID:-//Plone.org//NONSGML plone.app.event//EN
X-WR-TIMEZONE:Europe/Berlin
BEGIN:VEVENT
SUMMARY:Poesie International 2006
DTSTART;TZID=Europe/Berlin:20060501T100000
DTSTAMP:20260421T013511Z
UID:9b7663b1b17745c5ba10987242aa9e13@zmi.spielboden.at
CREATED:20120822T144634Z
LAST-MODIFIED:20210809T123831Z
URL:https://zmi.spielboden.at/Plone/veranstaltungen/2006/05_mai/2006-05-01
 -10-00-poesie-international-2006
END:VEVENT
BEGIN:VTIMEZONE
TZID:Europe/Berlin
X-LIC-LOCATION:Europe/Berlin
BEGIN:DAYLIGHT
DTSTART:20060326T030000
TZNAME:CEST
TZOFFSETFROM:+0100
TZOFFSETTO:+0200
END:DAYLIGHT
END:VTIMEZONE
END:VCALENDAR
