BEGIN:VCALENDAR
VERSION:2.0
PRODID:-//Plone.org//NONSGML plone.app.event//EN
X-WR-TIMEZONE:Europe/Berlin
BEGIN:VEVENT
SUMMARY:Poesie International 2006
DTSTART;TZID=Europe/Berlin:20060430T200000
DTSTAMP:20260421T013355Z
UID:5080bb9d1ece4f998e52cf33b63b4d58@zmi.spielboden.at
CREATED:20120822T144623Z
LAST-MODIFIED:20210809T123827Z
URL:https://zmi.spielboden.at/Plone/veranstaltungen/2006/04_april/2006-04-
 30-20-00-poesie-international-2006
END:VEVENT
BEGIN:VTIMEZONE
TZID:Europe/Berlin
X-LIC-LOCATION:Europe/Berlin
BEGIN:DAYLIGHT
DTSTART:20060326T030000
TZNAME:CEST
TZOFFSETFROM:+0100
TZOFFSETTO:+0200
END:DAYLIGHT
END:VTIMEZONE
END:VCALENDAR
