BEGIN:VCALENDAR
VERSION:2.0
PRODID:-//Plone.org//NONSGML plone.app.event//EN
X-WR-TIMEZONE:Europe/Berlin
BEGIN:VEVENT
SUMMARY:Balkanexpress - KAL
DTSTART;TZID=Europe/Berlin:20060426T210000
DTSTAMP:20260421T041810Z
UID:198c6f44bea245859b2d30d673444c29@zmi.spielboden.at
CREATED:20120822T144623Z
LAST-MODIFIED:20210809T123827Z
URL:https://zmi.spielboden.at/Plone/veranstaltungen/2006/04_april/2006-04-
 26-21-00-balkanexpress-kal
END:VEVENT
BEGIN:VTIMEZONE
TZID:Europe/Berlin
X-LIC-LOCATION:Europe/Berlin
BEGIN:DAYLIGHT
DTSTART:20060326T030000
TZNAME:CEST
TZOFFSETFROM:+0100
TZOFFSETTO:+0200
END:DAYLIGHT
END:VTIMEZONE
END:VCALENDAR
