BEGIN:VCALENDAR
VERSION:2.0
PRODID:-//Plone.org//NONSGML plone.app.event//EN
X-WR-TIMEZONE:Europe/Berlin
BEGIN:VEVENT
SUMMARY:Scott Henderson Blues Band
DTSTART;TZID=Europe/Berlin:20060425T203000
DTSTAMP:20260421T012641Z
UID:eed811bc59b04f44a2c3cd7c386ad345@zmi.spielboden.at
CREATED:20120822T144621Z
DESCRIPTION:Scott Henderson (guitar)\nJohn Humphrey (e-bass)\nKirk Covingt
 on (drums\, voc)
LAST-MODIFIED:20210809T123826Z
URL:https://zmi.spielboden.at/Plone/veranstaltungen/2006/04_april/2006-04-
 25-20-30-scott-henderson-blues-band
END:VEVENT
BEGIN:VTIMEZONE
TZID:Europe/Berlin
X-LIC-LOCATION:Europe/Berlin
BEGIN:DAYLIGHT
DTSTART:20060326T030000
TZNAME:CEST
TZOFFSETFROM:+0100
TZOFFSETTO:+0200
END:DAYLIGHT
END:VTIMEZONE
END:VCALENDAR
