BEGIN:VCALENDAR
VERSION:2.0
PRODID:-//Plone.org//NONSGML plone.app.event//EN
X-WR-TIMEZONE:Europe/Berlin
BEGIN:VEVENT
SUMMARY:The Globe & Funky Roots
DTSTART;TZID=Europe/Berlin:20060422T210000
DTSTAMP:20260421T041810Z
UID:588d976cf4f743bbbd5df8048815dad9@zmi.spielboden.at
CREATED:20120822T144619Z
DESCRIPTION:World-Music-Dance-Event
LAST-MODIFIED:20210809T123826Z
URL:https://zmi.spielboden.at/Plone/veranstaltungen/2006/04_april/2006-04-
 22-21-00-the-globe-funky-roots
END:VEVENT
BEGIN:VTIMEZONE
TZID:Europe/Berlin
X-LIC-LOCATION:Europe/Berlin
BEGIN:DAYLIGHT
DTSTART:20060326T030000
TZNAME:CEST
TZOFFSETFROM:+0100
TZOFFSETTO:+0200
END:DAYLIGHT
END:VTIMEZONE
END:VCALENDAR
