BEGIN:VCALENDAR
VERSION:2.0
PRODID:-//Plone.org//NONSGML plone.app.event//EN
X-WR-TIMEZONE:Europe/Berlin
BEGIN:VEVENT
SUMMARY:Blite Heavell
DTSTART;TZID=Europe/Berlin:20060421T210000
DTSTAMP:20260421T055005Z
UID:ccd0c5892710402f8a07cabd492eedea@zmi.spielboden.at
CREATED:20120822T144630Z
LAST-MODIFIED:20210809T123830Z
URL:https://zmi.spielboden.at/Plone/veranstaltungen/2006/04_april/2006-04-
 21-21-00-blite-heavell
END:VEVENT
BEGIN:VTIMEZONE
TZID:Europe/Berlin
X-LIC-LOCATION:Europe/Berlin
BEGIN:DAYLIGHT
DTSTART:20060326T030000
TZNAME:CEST
TZOFFSETFROM:+0100
TZOFFSETTO:+0200
END:DAYLIGHT
END:VTIMEZONE
END:VCALENDAR
