BEGIN:VCALENDAR
VERSION:2.0
PRODID:-//Plone.org//NONSGML plone.app.event//EN
X-WR-TIMEZONE:Europe/Berlin
BEGIN:VEVENT
SUMMARY:Thomas Stipsits in Griechenland – Die Legende des Trinkers
DTSTART;TZID=Europe/Berlin:20060420T203000
DTSTAMP:20260421T013522Z
UID:db184d737870491ba91aa3abe6e33948@zmi.spielboden.at
CREATED:20120822T144624Z
LAST-MODIFIED:20210809T123827Z
URL:https://zmi.spielboden.at/Plone/veranstaltungen/2006/04_april/2006-04-
 20-20-30-thomas-stipsits-in-griechenland-2013-die-legende-des-trinkers
END:VEVENT
BEGIN:VTIMEZONE
TZID:Europe/Berlin
X-LIC-LOCATION:Europe/Berlin
BEGIN:DAYLIGHT
DTSTART:20060326T030000
TZNAME:CEST
TZOFFSETFROM:+0100
TZOFFSETTO:+0200
END:DAYLIGHT
END:VTIMEZONE
END:VCALENDAR
