BEGIN:VCALENDAR
VERSION:2.0
PRODID:-//Plone.org//NONSGML plone.app.event//EN
X-WR-TIMEZONE:Europe/Berlin
BEGIN:VEVENT
SUMMARY:Docuzone - 89 Millimeter
DTSTART;TZID=Europe/Berlin:20060419T203000
DTSTAMP:20260421T025231Z
UID:23bca719cc264d7fa381f96640862381@zmi.spielboden.at
CREATED:20120822T144628Z
LAST-MODIFIED:20210809T123829Z
URL:https://zmi.spielboden.at/Plone/veranstaltungen/2006/04_april/2006-04-
 19-20-30-docuzone-89-millimeter
END:VEVENT
BEGIN:VTIMEZONE
TZID:Europe/Berlin
X-LIC-LOCATION:Europe/Berlin
BEGIN:DAYLIGHT
DTSTART:20060326T030000
TZNAME:CEST
TZOFFSETFROM:+0100
TZOFFSETTO:+0200
END:DAYLIGHT
END:VTIMEZONE
END:VCALENDAR
