BEGIN:VCALENDAR
VERSION:2.0
PRODID:-//Plone.org//NONSGML plone.app.event//EN
X-WR-TIMEZONE:Europe/Berlin
BEGIN:VEVENT
SUMMARY:Pop & Wave Party
DTSTART;TZID=Europe/Berlin:20060416T210000
DTSTAMP:20260421T041756Z
UID:dfcb75fe1e614b4692adc5c4bff96466@zmi.spielboden.at
CREATED:20120822T144632Z
LAST-MODIFIED:20120910T114108Z
URL:https://zmi.spielboden.at/Plone/veranstaltungen/2006/04_april/2006-04-
 16-21-00-pop-wave-party
END:VEVENT
BEGIN:VTIMEZONE
TZID:Europe/Berlin
X-LIC-LOCATION:Europe/Berlin
BEGIN:DAYLIGHT
DTSTART:20060326T030000
TZNAME:CEST
TZOFFSETFROM:+0100
TZOFFSETTO:+0200
END:DAYLIGHT
END:VTIMEZONE
END:VCALENDAR
