BEGIN:VCALENDAR
VERSION:2.0
PRODID:-//Plone.org//NONSGML plone.app.event//EN
X-WR-TIMEZONE:Europe/Berlin
BEGIN:VEVENT
SUMMARY:60er/70er Party mit DJ Ernesto
DTSTART;TZID=Europe/Berlin:20060415T210000
DTSTAMP:20260421T013242Z
UID:77040e214c9d450eb5d2179f8c50623d@zmi.spielboden.at
CREATED:20120822T144631Z
LAST-MODIFIED:20120910T114108Z
URL:https://zmi.spielboden.at/Plone/veranstaltungen/2006/04_april/2006-04-
 15-21-00-60er-70er-party-mit-dj-ernesto
END:VEVENT
BEGIN:VTIMEZONE
TZID:Europe/Berlin
X-LIC-LOCATION:Europe/Berlin
BEGIN:DAYLIGHT
DTSTART:20060326T030000
TZNAME:CEST
TZOFFSETFROM:+0100
TZOFFSETTO:+0200
END:DAYLIGHT
END:VTIMEZONE
END:VCALENDAR
