BEGIN:VCALENDAR
VERSION:2.0
PRODID:-//Plone.org//NONSGML plone.app.event//EN
X-WR-TIMEZONE:Europe/Berlin
BEGIN:VEVENT
SUMMARY:Docuzone - Odessa Odessa
DTSTART;TZID=Europe/Berlin:20060412T203000
DTSTAMP:20260421T000625Z
UID:64232c2cf0274101aacbcff27efde75e@zmi.spielboden.at
CREATED:20120822T144628Z
LAST-MODIFIED:20210809T123829Z
URL:https://zmi.spielboden.at/Plone/veranstaltungen/2006/04_april/2006-04-
 12-20-30-docuzone-odessa-odessa
END:VEVENT
BEGIN:VTIMEZONE
TZID:Europe/Berlin
X-LIC-LOCATION:Europe/Berlin
BEGIN:DAYLIGHT
DTSTART:20060326T030000
TZNAME:CEST
TZOFFSETFROM:+0100
TZOFFSETTO:+0200
END:DAYLIGHT
END:VTIMEZONE
END:VCALENDAR
