BEGIN:VCALENDAR
VERSION:2.0
PRODID:-//Plone.org//NONSGML plone.app.event//EN
X-WR-TIMEZONE:Europe/Berlin
BEGIN:VEVENT
SUMMARY:Michel Godard «Castel del Monte»
DTSTART;TZID=Europe/Berlin:20060408T203000
DTSTAMP:20260421T000620Z
UID:3337895a67874b979bf415e14559afc8@zmi.spielboden.at
CREATED:20120822T144620Z
DESCRIPTION:Michel Godard (Serpent\, Tuba)\nLinda Bsiri (Gesang)\nGavino M
 urgia (Sopransax\, Stimme)\nJarrod Cagwin (Perkussion)\nGianni De Gennaro 
 (Gesang\, Viola)\nCosimo Giovine (Gesang)\nNicola Nesta (Gesang\, Laute)\n
 Francesco Regina (Gesang)
LAST-MODIFIED:20210809T123826Z
URL:https://zmi.spielboden.at/Plone/veranstaltungen/2006/04_april/2006-04-
 08-20-30-michel-godard-abcastel-del-montebb
END:VEVENT
BEGIN:VTIMEZONE
TZID:Europe/Berlin
X-LIC-LOCATION:Europe/Berlin
BEGIN:DAYLIGHT
DTSTART:20060326T030000
TZNAME:CEST
TZOFFSETFROM:+0100
TZOFFSETTO:+0200
END:DAYLIGHT
END:VTIMEZONE
END:VCALENDAR
