BEGIN:VCALENDAR
VERSION:2.0
PRODID:-//Plone.org//NONSGML plone.app.event//EN
X-WR-TIMEZONE:Europe/Berlin
BEGIN:VEVENT
SUMMARY:Jeunesse - Kovacic & Hinterhuber - Ein Amerikaner in Paris
DTSTART;TZID=Europe/Berlin:20060405T203000
DTSTAMP:20260421T012500Z
UID:d12c5be122cd4ce7b736cf76049f4fef@zmi.spielboden.at
CREATED:20120822T144630Z
DESCRIPTION:Ernst Kovacic - Violine\; Christopher Hinterhuber - Klavier
LAST-MODIFIED:20210809T123830Z
URL:https://zmi.spielboden.at/Plone/veranstaltungen/2006/04_april/2006-04-
 05-20-30-jeunesse-kovacic-hinterhuber-ein-amerikaner-in-paris
END:VEVENT
BEGIN:VTIMEZONE
TZID:Europe/Berlin
X-LIC-LOCATION:Europe/Berlin
BEGIN:DAYLIGHT
DTSTART:20060326T030000
TZNAME:CEST
TZOFFSETFROM:+0100
TZOFFSETTO:+0200
END:DAYLIGHT
END:VTIMEZONE
END:VCALENDAR
