BEGIN:VCALENDAR
VERSION:2.0
PRODID:-//Plone.org//NONSGML plone.app.event//EN
X-WR-TIMEZONE:Europe/Berlin
BEGIN:VEVENT
SUMMARY:Docuzone - Odessa Odessa
DTSTART;TZID=Europe/Berlin:20060405T203000
DTSTAMP:20260421T000604Z
UID:8e3158ee97d34311b34eb001ed341b7d@zmi.spielboden.at
CREATED:20120822T144627Z
LAST-MODIFIED:20210809T123829Z
URL:https://zmi.spielboden.at/Plone/veranstaltungen/2006/04_april/2006-04-
 05-20-30-docuzone-odessa-odessa
END:VEVENT
BEGIN:VTIMEZONE
TZID:Europe/Berlin
X-LIC-LOCATION:Europe/Berlin
BEGIN:DAYLIGHT
DTSTART:20060326T030000
TZNAME:CEST
TZOFFSETFROM:+0100
TZOFFSETTO:+0200
END:DAYLIGHT
END:VTIMEZONE
END:VCALENDAR
