BEGIN:VCALENDAR
VERSION:2.0
PRODID:-//Plone.org//NONSGML plone.app.event//EN
X-WR-TIMEZONE:Europe/Berlin
BEGIN:VEVENT
SUMMARY:Mikrokino - In this world
DTSTART;TZID=Europe/Berlin:20060404T203000
DTSTAMP:20260421T041921Z
UID:7722cc01c5e14783b6ee9f0d772492c0@zmi.spielboden.at
CREATED:20120822T144629Z
LAST-MODIFIED:20210809T123830Z
URL:https://zmi.spielboden.at/Plone/veranstaltungen/2006/04_april/2006-04-
 04-20-30-mikrokino-in-this-world
END:VEVENT
BEGIN:VTIMEZONE
TZID:Europe/Berlin
X-LIC-LOCATION:Europe/Berlin
BEGIN:DAYLIGHT
DTSTART:20060326T030000
TZNAME:CEST
TZOFFSETFROM:+0100
TZOFFSETTO:+0200
END:DAYLIGHT
END:VTIMEZONE
END:VCALENDAR
