BEGIN:VCALENDAR
VERSION:2.0
PRODID:-//Plone.org//NONSGML plone.app.event//EN
X-WR-TIMEZONE:Europe/Berlin
BEGIN:VEVENT
SUMMARY:Joel Harrison Band feat. Rick Margitza
DTSTART;TZID=Europe/Berlin:20060401T203000
DTSTAMP:20260421T000606Z
UID:264c03c3cdde4f8984c1e26d64940088@zmi.spielboden.at
CREATED:20120822T144620Z
DESCRIPTION:Joel Harrison - guitar\, vocals\; Rick Margitza - sax\; Dave A
 mbrosio - bass\; Dan Weiss - drums
LAST-MODIFIED:20210809T123826Z
URL:https://zmi.spielboden.at/Plone/veranstaltungen/2006/04_april/2006-04-
 01-20-30-joel-harrison-band-feat-rick-margitza
END:VEVENT
BEGIN:VTIMEZONE
TZID:Europe/Berlin
X-LIC-LOCATION:Europe/Berlin
BEGIN:DAYLIGHT
DTSTART:20060326T030000
TZNAME:CEST
TZOFFSETFROM:+0100
TZOFFSETTO:+0200
END:DAYLIGHT
END:VTIMEZONE
END:VCALENDAR
