BEGIN:VCALENDAR
VERSION:2.0
PRODID:-//Plone.org//NONSGML plone.app.event//EN
X-WR-TIMEZONE:Europe/Berlin
BEGIN:VEVENT
SUMMARY:Die drei kleinen Schweinchen
DTSTART;TZID=Europe/Berlin:20060401T150000
DTSTAMP:20260421T042209Z
UID:5df6384e46204c168586b12ff487b9f7@zmi.spielboden.at
CREATED:20120822T144616Z
DESCRIPTION:Gerti Tröbinger Figurentheater\, Puppentheater ab 5 Jahren.
LAST-MODIFIED:20210809T123825Z
URL:https://zmi.spielboden.at/Plone/veranstaltungen/2006/04_april/2006-04-
 01-15-00-die-drei-kleinen-schweinchen
END:VEVENT
BEGIN:VTIMEZONE
TZID:Europe/Berlin
X-LIC-LOCATION:Europe/Berlin
BEGIN:DAYLIGHT
DTSTART:20060326T030000
TZNAME:CEST
TZOFFSETFROM:+0100
TZOFFSETTO:+0200
END:DAYLIGHT
END:VTIMEZONE
END:VCALENDAR
