BEGIN:VCALENDAR
VERSION:2.0
PRODID:-//Plone.org//NONSGML plone.app.event//EN
X-WR-TIMEZONE:Europe/Berlin
BEGIN:VEVENT
SUMMARY:The Dusa Orchestra
DTSTART;TZID=Europe/Berlin:20060303T203000
DTSTAMP:20260421T000521Z
UID:f18d7cc514024eb9980c8ff9c783cf1c@zmi.spielboden.at
CREATED:20120822T144606Z
LAST-MODIFIED:20210809T123823Z
URL:https://zmi.spielboden.at/Plone/veranstaltungen/2006/03_maerz/the-dusa
 -orchestra
END:VEVENT
BEGIN:VTIMEZONE
TZID:Europe/Berlin
X-LIC-LOCATION:Europe/Berlin
BEGIN:STANDARD
DTSTART:20051030T020000
TZNAME:CET
TZOFFSETFROM:+0200
TZOFFSETTO:+0100
END:STANDARD
END:VTIMEZONE
END:VCALENDAR
