BEGIN:VCALENDAR
VERSION:2.0
PRODID:-//Plone.org//NONSGML plone.app.event//EN
X-WR-TIMEZONE:Europe/Berlin
BEGIN:VEVENT
SUMMARY:The Las Vegas drive-thru Wedding Chapel
DTSTART;TZID=Europe/Berlin:20060331T210000
DTSTAMP:20260421T001026Z
UID:108920b8d168494798407d1e997c79cc@zmi.spielboden.at
CREATED:20120822T144614Z
DESCRIPTION:Klaus Hämmerle (Gitarre\, Gesang)\, Pia Suttr (Keyboard)\, Pa
 scal Grabherr (Schlagzeug)
LAST-MODIFIED:20210809T123825Z
URL:https://zmi.spielboden.at/Plone/veranstaltungen/2006/03_maerz/2006-03-
 31-21-00-the-las-vegas-drive-thru-wedding-chapel
END:VEVENT
BEGIN:VTIMEZONE
TZID:Europe/Berlin
X-LIC-LOCATION:Europe/Berlin
BEGIN:DAYLIGHT
DTSTART:20060326T030000
TZNAME:CEST
TZOFFSETFROM:+0100
TZOFFSETTO:+0200
END:DAYLIGHT
END:VTIMEZONE
END:VCALENDAR
