BEGIN:VCALENDAR
VERSION:2.0
PRODID:-//Plone.org//NONSGML plone.app.event//EN
X-WR-TIMEZONE:Europe/Berlin
BEGIN:VEVENT
SUMMARY:Das Bo & Miss Leema
DTSTART;TZID=Europe/Berlin:20060330T210000
DTSTAMP:20260421T000906Z
UID:8ffd8cb39aa847be96fed82fb078d09d@zmi.spielboden.at
CREATED:20120822T144603Z
DESCRIPTION:Genau So - Tour 2006
LAST-MODIFIED:20210809T123821Z
URL:https://zmi.spielboden.at/Plone/veranstaltungen/2006/03_maerz/2006-03-
 30-21-00-das-bo-miss-leema
END:VEVENT
BEGIN:VTIMEZONE
TZID:Europe/Berlin
X-LIC-LOCATION:Europe/Berlin
BEGIN:DAYLIGHT
DTSTART:20060326T030000
TZNAME:CEST
TZOFFSETFROM:+0100
TZOFFSETTO:+0200
END:DAYLIGHT
END:VTIMEZONE
END:VCALENDAR
