BEGIN:VCALENDAR
VERSION:2.0
PRODID:-//Plone.org//NONSGML plone.app.event//EN
X-WR-TIMEZONE:Europe/Berlin
BEGIN:VEVENT
SUMMARY:Docuzone - "Too soon for sorry" & "Knock off. Die Rache am Logo."
DTSTART;TZID=Europe/Berlin:20060329T203000
DTSTAMP:20260421T012429Z
UID:0656e0a5bb5847e2950397990c96288e@zmi.spielboden.at
CREATED:20120822T144614Z
LAST-MODIFIED:20210809T123825Z
URL:https://zmi.spielboden.at/Plone/veranstaltungen/2006/03_maerz/2006-03-
 29-20-30-docuzone-too-soon-for-sorry-knock-off-die-rache-am-logo
END:VEVENT
BEGIN:VTIMEZONE
TZID:Europe/Berlin
X-LIC-LOCATION:Europe/Berlin
BEGIN:DAYLIGHT
DTSTART:20060326T030000
TZNAME:CEST
TZOFFSETFROM:+0100
TZOFFSETTO:+0200
END:DAYLIGHT
END:VTIMEZONE
END:VCALENDAR
