BEGIN:VCALENDAR
VERSION:2.0
PRODID:-//Plone.org//NONSGML plone.app.event//EN
X-WR-TIMEZONE:Europe/Berlin
BEGIN:VEVENT
SUMMARY:Docuzone - "Too soon for sorry" & "Knock off. Die Rache am Logo."
DTSTART;TZID=Europe/Berlin:20060322T203000
DTSTAMP:20260421T013850Z
UID:dbe802f1f1a24469a322ac40f65dc401@zmi.spielboden.at
CREATED:20120822T144613Z
LAST-MODIFIED:20210809T123825Z
URL:https://zmi.spielboden.at/Plone/veranstaltungen/2006/03_maerz/2006-03-
 22-20-30-docuzone-too-soon-for-sorry-knock-off-die-rache-am-logo
END:VEVENT
BEGIN:VTIMEZONE
TZID:Europe/Berlin
X-LIC-LOCATION:Europe/Berlin
BEGIN:STANDARD
DTSTART:20051030T020000
TZNAME:CET
TZOFFSETFROM:+0200
TZOFFSETTO:+0100
END:STANDARD
END:VTIMEZONE
END:VCALENDAR
