BEGIN:VCALENDAR
VERSION:2.0
PRODID:-//Plone.org//NONSGML plone.app.event//EN
X-WR-TIMEZONE:Europe/Berlin
BEGIN:VEVENT
SUMMARY:60er/70er Party mit DJ Ernesto
DTSTART;TZID=Europe/Berlin:20060318T220000
DTSTAMP:20260421T000941Z
UID:4d410c7e9bc1473c96690f3dda782e96@zmi.spielboden.at
CREATED:20120822T144615Z
LAST-MODIFIED:20120910T114107Z
URL:https://zmi.spielboden.at/Plone/veranstaltungen/2006/03_maerz/2006-03-
 18-22-00-60er-70er-party-mit-dj-ernesto
END:VEVENT
BEGIN:VTIMEZONE
TZID:Europe/Berlin
X-LIC-LOCATION:Europe/Berlin
BEGIN:STANDARD
DTSTART:20051030T020000
TZNAME:CET
TZOFFSETFROM:+0200
TZOFFSETTO:+0100
END:STANDARD
END:VTIMEZONE
END:VCALENDAR
