BEGIN:VCALENDAR
VERSION:2.0
PRODID:-//Plone.org//NONSGML plone.app.event//EN
X-WR-TIMEZONE:Europe/Berlin
BEGIN:VEVENT
SUMMARY:Filmfabrik - Moolaadé
DTSTART;TZID=Europe/Berlin:20060318T203000
DTSTAMP:20260421T013200Z
UID:06942da124154c6798af889d6264841f@zmi.spielboden.at
CREATED:20120822T144612Z
LAST-MODIFIED:20210809T123824Z
URL:https://zmi.spielboden.at/Plone/veranstaltungen/2006/03_maerz/2006-03-
 18-20-30-filmfabrik-moolaade
END:VEVENT
BEGIN:VTIMEZONE
TZID:Europe/Berlin
X-LIC-LOCATION:Europe/Berlin
BEGIN:STANDARD
DTSTART:20051030T020000
TZNAME:CET
TZOFFSETFROM:+0200
TZOFFSETTO:+0100
END:STANDARD
END:VTIMEZONE
END:VCALENDAR
