BEGIN:VCALENDAR
VERSION:2.0
PRODID:-//Plone.org//NONSGML plone.app.event//EN
X-WR-TIMEZONE:Europe/Berlin
BEGIN:VEVENT
SUMMARY:Kindertheater Trittbrettl- Die drei Rätsel
DTSTART;TZID=Europe/Berlin:20060318T150000
DTSTAMP:20260421T002102Z
UID:465b15b1f59b4e22bc71639229d6172b@zmi.spielboden.at
CREATED:20120822T144601Z
DESCRIPTION:Eine japanische Legende ab 5 Jahren.
LAST-MODIFIED:20210809T123615Z
URL:https://zmi.spielboden.at/Plone/veranstaltungen/2006/03_maerz/2006-03-
 18-15-00-kindertheater-trittbrettl-die-drei-raetsel
END:VEVENT
BEGIN:VTIMEZONE
TZID:Europe/Berlin
X-LIC-LOCATION:Europe/Berlin
BEGIN:STANDARD
DTSTART:20051030T020000
TZNAME:CET
TZOFFSETFROM:+0200
TZOFFSETTO:+0100
END:STANDARD
END:VTIMEZONE
END:VCALENDAR
