BEGIN:VCALENDAR
VERSION:2.0
PRODID:-//Plone.org//NONSGML plone.app.event//EN
X-WR-TIMEZONE:Europe/Berlin
BEGIN:VEVENT
SUMMARY:Filmfabrik - Öffene meine Augen (Te doy mis ojos)
DTSTART;TZID=Europe/Berlin:20060317T203000
DTSTAMP:20260421T001417Z
UID:214a588a63794440baf9efa18efadd0f@zmi.spielboden.at
CREATED:20120822T144611Z
LAST-MODIFIED:20210809T123824Z
URL:https://zmi.spielboden.at/Plone/veranstaltungen/2006/03_maerz/2006-03-
 17-20-30-filmfabrik-oeffene-meine-augen-te-doy-mis-ojos
END:VEVENT
BEGIN:VTIMEZONE
TZID:Europe/Berlin
X-LIC-LOCATION:Europe/Berlin
BEGIN:STANDARD
DTSTART:20051030T020000
TZNAME:CET
TZOFFSETFROM:+0200
TZOFFSETTO:+0100
END:STANDARD
END:VTIMEZONE
END:VCALENDAR
